BEGIN:VCALENDAR
VERSION:2.0
PRODID:-//Polka Dot Pot - ECPv6.14.0//NONSGML v1.0//EN
CALSCALE:GREGORIAN
METHOD:PUBLISH
X-WR-CALNAME:Polka Dot Pot
X-ORIGINAL-URL:https://polkadotpot.com
X-WR-CALDESC:Events for Polka Dot Pot
REFRESH-INTERVAL;VALUE=DURATION:PT1H
X-Robots-Tag:noindex
X-PUBLISHED-TTL:PT1H
BEGIN:VTIMEZONE
TZID:America/New_York
BEGIN:DAYLIGHT
TZOFFSETFROM:-0500
TZOFFSETTO:-0400
TZNAME:EDT
DTSTART:20250309T070000
END:DAYLIGHT
BEGIN:STANDARD
TZOFFSETFROM:-0400
TZOFFSETTO:-0500
TZNAME:EST
DTSTART:20251102T060000
END:STANDARD
END:VTIMEZONE
BEGIN:VEVENT
DTSTART;TZID=America/New_York:20251010T180000
DTEND;TZID=America/New_York:20251010T193000
DTSTAMP:20260420T130234
CREATED:20250930T171435Z
LAST-MODIFIED:20250930T171435Z
UID:253470-1760119200-1760124600@polkadotpot.com
SUMMARY:Turkish Lamp Class
DESCRIPTION:Join us this evening to make one of these amazing Turkish lamps.  Everything you need will be provided.  You will design and create your lamp here in the shop\, taking it home to grout once the tiles are set.  These lamps are gorgeous!  Space is limited.  If you can’t make this class\, stop by and grab a to go kit to make this project at home.  All supplies included.  This is our last lamp class in 2025.\n*Feel free to arrive early to get a head start on your lamp.
URL:https://polkadotpot.com/event/turkish-lamp-class-3/
ATTACH;FMTTYPE=image/png:https://polkadotpot.com/wp-content/uploads/2025/09/Turkish-Lamp-Project-Real-Estate-Flyer.png
ORGANIZER;CN="Emily Rhodes":MAILTO:info@polkadotpot.com
END:VEVENT
END:VCALENDAR