BEGIN:VCALENDAR
VERSION:2.0
PRODID:-//Polka Dot Pot - ECPv6.14.0//NONSGML v1.0//EN
CALSCALE:GREGORIAN
METHOD:PUBLISH
X-WR-CALNAME:Polka Dot Pot
X-ORIGINAL-URL:https://polkadotpot.com
X-WR-CALDESC:Events for Polka Dot Pot
REFRESH-INTERVAL;VALUE=DURATION:PT1H
X-Robots-Tag:noindex
X-PUBLISHED-TTL:PT1H
BEGIN:VTIMEZONE
TZID:America/New_York
BEGIN:DAYLIGHT
TZOFFSETFROM:-0500
TZOFFSETTO:-0400
TZNAME:EDT
DTSTART:20250309T070000
END:DAYLIGHT
BEGIN:STANDARD
TZOFFSETFROM:-0400
TZOFFSETTO:-0500
TZNAME:EST
DTSTART:20251102T060000
END:STANDARD
END:VTIMEZONE
BEGIN:VEVENT
DTSTART;TZID=America/New_York:20250725T110000
DTEND;TZID=America/New_York:20250725T190000
DTSTAMP:20260419T094715
CREATED:20250714T184417Z
LAST-MODIFIED:20250714T184417Z
UID:252807-1753441200-1753470000@polkadotpot.com
SUMMARY:Studio Ghibli Day
DESCRIPTION:Join us for a magical day of pottery painting creating your own Ghibli designs.  We’ll have lots of project ideas to help or you can bring your own.  There will be plenty of treats for you to enjoy\, just don’t end up like Chihiro’s parents\, haha!  We’ll be open until 11 am to 7 pm today\, no tickets needed\, so just comein anytime to create!
URL:https://polkadotpot.com/event/studio-ghibli-day/
ATTACH;FMTTYPE=image/png:https://polkadotpot.com/wp-content/uploads/2025/07/Studio-Ghibli-FB-Facebook-Post-Square.png
ORGANIZER;CN="Emily Rhodes":MAILTO:info@polkadotpot.com
END:VEVENT
END:VCALENDAR