BEGIN:VCALENDAR
VERSION:2.0
PRODID:-//Polka Dot Pot - ECPv6.14.0//NONSGML v1.0//EN
CALSCALE:GREGORIAN
METHOD:PUBLISH
X-WR-CALNAME:Polka Dot Pot
X-ORIGINAL-URL:https://polkadotpot.com
X-WR-CALDESC:Events for Polka Dot Pot
REFRESH-INTERVAL;VALUE=DURATION:PT1H
X-Robots-Tag:noindex
X-PUBLISHED-TTL:PT1H
BEGIN:VTIMEZONE
TZID:America/New_York
BEGIN:DAYLIGHT
TZOFFSETFROM:-0500
TZOFFSETTO:-0400
TZNAME:EDT
DTSTART:20240310T070000
END:DAYLIGHT
BEGIN:STANDARD
TZOFFSETFROM:-0400
TZOFFSETTO:-0500
TZNAME:EST
DTSTART:20241103T060000
END:STANDARD
END:VTIMEZONE
BEGIN:VEVENT
DTSTART;TZID=America/New_York:20241002T180000
DTEND;TZID=America/New_York:20241002T190000
DTSTAMP:20260425T083804
CREATED:20240922T193625Z
LAST-MODIFIED:20240922T193625Z
UID:252230-1727892000-1727895600@polkadotpot.com
SUMMARY:Clay Evening ~ Witch Hat
DESCRIPTION:Join us this evening to create your own clay witch hat.  You’ll design your own hat and can even add cut-outs to make it a lantern.  We’ll provide everything need.  Hats will be ready on Oct. 12th for painting.  Cost is $45 per hat.
URL:https://polkadotpot.com/event/clay-evening-witch-hat/
LOCATION:157 N LOUDOUN ST\, Winchester\, VA\, 22601\, United States
ATTACH;FMTTYPE=image/png:https://polkadotpot.com/wp-content/uploads/2024/09/Pump-Witch-Clay-Day-1.png
ORGANIZER;CN="Emily Rhodes":MAILTO:info@polkadotpot.com
GEO:39.1858152;-78.1651629
X-APPLE-STRUCTURED-LOCATION;VALUE=URI;X-ADDRESS=157 N LOUDOUN ST Winchester VA 22601 United States;X-APPLE-RADIUS=500;X-TITLE=157 N LOUDOUN ST:geo:-78.1651629,39.1858152
END:VEVENT
END:VCALENDAR