BEGIN:VCALENDAR
VERSION:2.0
PRODID:-//Polka Dot Pot - ECPv6.14.0//NONSGML v1.0//EN
CALSCALE:GREGORIAN
METHOD:PUBLISH
X-ORIGINAL-URL:https://polkadotpot.com
X-WR-CALDESC:Events for Polka Dot Pot
REFRESH-INTERVAL;VALUE=DURATION:PT1H
X-Robots-Tag:noindex
X-PUBLISHED-TTL:PT1H
BEGIN:VTIMEZONE
TZID:America/New_York
BEGIN:DAYLIGHT
TZOFFSETFROM:-0500
TZOFFSETTO:-0400
TZNAME:EDT
DTSTART:20240310T070000
END:DAYLIGHT
BEGIN:STANDARD
TZOFFSETFROM:-0400
TZOFFSETTO:-0500
TZNAME:EST
DTSTART:20241103T060000
END:STANDARD
END:VTIMEZONE
BEGIN:VEVENT
DTSTART;TZID=America/New_York:20241117T110000
DTEND;TZID=America/New_York:20241117T170000
DTSTAMP:20260424T124652
CREATED:20241112T133704Z
LAST-MODIFIED:20241112T134201Z
UID:10003926-1731841200-1731862800@polkadotpot.com
SUMMARY:Clay Wreath Workshop
DESCRIPTION:Come in today to design your own clay wreath.  You’ll start with a clay base and then make and add clay leaves\, berries\, and anything else you’d like to your wreath.  Available to paint in two weeks.  Wreaths are around 8-9″.  We are open 12-5 but please give yourself at least an hour to create.  No reservations needed but our clay area may fill up.  We will be opening at 11 on Sunday the 17th and 24th just for clay workshops.  Cost is $55 per wreath\, limit of 2 people working on each wreath.
URL:https://polkadotpot.com/event/clay-wreath-workshop/
LOCATION:157 N LOUDOUN ST\, Winchester\, VA\, 22601\, United States
ATTACH;FMTTYPE=image/jpeg:https://polkadotpot.com/wp-content/uploads/2024/11/Cutters-Clay-Christmas-Wreath.jpg
ORGANIZER;CN="Emily Rhodes":MAILTO:info@polkadotpot.com
GEO:39.1858152;-78.1651629
X-APPLE-STRUCTURED-LOCATION;VALUE=URI;X-ADDRESS=157 N LOUDOUN ST Winchester VA 22601 United States;X-APPLE-RADIUS=500;X-TITLE=157 N LOUDOUN ST:geo:-78.1651629,39.1858152
END:VEVENT
BEGIN:VEVENT
DTSTART;TZID=America/New_York:20241122T150000
DTEND;TZID=America/New_York:20241122T200000
DTSTAMP:20260424T124652
CREATED:20241114T131558Z
LAST-MODIFIED:20241114T131558Z
UID:10003842-1732287600-1732305600@polkadotpot.com
SUMMARY:Clay Night
DESCRIPTION:We have lots of clay projects for you to do tonight!  Ornaments\, clay wreaths\, hand/footprint ornaments\, tree and gingerbread house plaques.  Prices are:  Hand/footprint ornaments – $22\,  Wreaths – $55\, Ornaments – 2/$36 and 4/$64\, Plaques – $30.  Prices include return visit to paint or a to-go kit to paint at home.  Items ready for painting in 10 days.  You do have to options for staff to paint your hand/footprint ornaments for an additional fee.  No Reservations.  First come\, first served.  Please arrive by 7 to give yourself enough time to create.  Check our Facebook page for pics and updates.
URL:https://polkadotpot.com/event/clay-night/
LOCATION:157 N LOUDOUN ST\, Winchester\, VA\, 22601\, United States
ATTACH;FMTTYPE=image/png:https://polkadotpot.com/wp-content/uploads/2024/11/Website-pic-.png
ORGANIZER;CN="Emily Rhodes":MAILTO:info@polkadotpot.com
GEO:39.1858152;-78.1651629
X-APPLE-STRUCTURED-LOCATION;VALUE=URI;X-ADDRESS=157 N LOUDOUN ST Winchester VA 22601 United States;X-APPLE-RADIUS=500;X-TITLE=157 N LOUDOUN ST:geo:-78.1651629,39.1858152
END:VEVENT
BEGIN:VEVENT
DTSTART;TZID=America/New_York:20241123T110000
DTEND;TZID=America/New_York:20241123T150000
DTSTAMP:20260424T124652
CREATED:20241117T204050Z
LAST-MODIFIED:20241117T204050Z
UID:10003843-1732359600-1732374000@polkadotpot.com
SUMMARY:Paw Print Day
DESCRIPTION:What a fun day!  We’ll have everything set up outside and ready for you to bring your favorite four-legged\, or 3-legged\, friend by to make a paw print ornament.  There are several different ornament shapes to choose from.    We’ll your pets name and a cute boarder.   Prints will be ready in one week.  Cost is $22 per ornament.  You’ll be responsible for holding your pet.
URL:https://polkadotpot.com/event/paw-print-day/
LOCATION:157 N LOUDOUN ST\, Winchester\, VA\, 22601\, United States
ATTACH;FMTTYPE=image/jpeg:https://polkadotpot.com/wp-content/uploads/2023/09/Pawprint-ornaments.jpg
ORGANIZER;CN="Emily Rhodes":MAILTO:info@polkadotpot.com
GEO:39.1858152;-78.1651629
X-APPLE-STRUCTURED-LOCATION;VALUE=URI;X-ADDRESS=157 N LOUDOUN ST Winchester VA 22601 United States;X-APPLE-RADIUS=500;X-TITLE=157 N LOUDOUN ST:geo:-78.1651629,39.1858152
END:VEVENT
END:VCALENDAR